BEGIN:VCALENDAR
VERSION:2.0
PRODID:-//Agro Sörmland - ECPv6.15.20//NONSGML v1.0//EN
CALSCALE:GREGORIAN
METHOD:PUBLISH
X-WR-CALNAME:Agro Sörmland
X-ORIGINAL-URL:https://agrosormland.se
X-WR-CALDESC:Händelser för Agro Sörmland
REFRESH-INTERVAL;VALUE=DURATION:PT1H
X-Robots-Tag:noindex
X-PUBLISHED-TTL:PT1H
BEGIN:VTIMEZONE
TZID:Europe/Stockholm
BEGIN:DAYLIGHT
TZOFFSETFROM:+0100
TZOFFSETTO:+0200
TZNAME:CEST
DTSTART:20240331T010000
END:DAYLIGHT
BEGIN:STANDARD
TZOFFSETFROM:+0200
TZOFFSETTO:+0100
TZNAME:CET
DTSTART:20241027T010000
END:STANDARD
BEGIN:DAYLIGHT
TZOFFSETFROM:+0100
TZOFFSETTO:+0200
TZNAME:CEST
DTSTART:20250330T010000
END:DAYLIGHT
BEGIN:STANDARD
TZOFFSETFROM:+0200
TZOFFSETTO:+0100
TZNAME:CET
DTSTART:20251026T010000
END:STANDARD
BEGIN:DAYLIGHT
TZOFFSETFROM:+0100
TZOFFSETTO:+0200
TZNAME:CEST
DTSTART:20260329T010000
END:DAYLIGHT
BEGIN:STANDARD
TZOFFSETFROM:+0200
TZOFFSETTO:+0100
TZNAME:CET
DTSTART:20261025T010000
END:STANDARD
END:VTIMEZONE
BEGIN:VEVENT
DTSTART;TZID=Europe/Stockholm:20250514T090000
DTEND;TZID=Europe/Stockholm:20250514T110000
DTSTAMP:20260420T003457
CREATED:20250410T190330Z
LAST-MODIFIED:20250425T122240Z
UID:9000-1747213200-1747220400@agrosormland.se
SUMMARY:Vattenförvaltning – en resurs för framtidens samhälle
DESCRIPTION:Datum: 14/5\nTid: 9:00-11:00\nPlats: Digitalt via Teams – länk skickas ut några dagar innan. \nANMÄL \nExtrema väderhändelser med både torka och översvämningar blir allt vanligare – något som påverkar inte bara jordbruket utan hela samhället. Hur kan vi tillsammans skapa en mer robust och motståndskraftig vattenförvaltning? \nVälkommen till ett digitalt seminarium inom förstudien Ökad robusthet och resiliens i vattenförvaltningen där vi får ta del av hur en innovativ vattenhantering kan bidra till samhällsnytta\, klimatberedskap och hållbar utveckling. \nFörmiddagens innehåll:\nVi kommer att berätta om våra slutsatser från workshops som genomförts i Västmanland\, Södermanland och Örebros län för att identifiera behov och hitta lösningar för vattnets rörelser i landskapet. \nFaruk Djodjic\, forskare vid SLU med fokus på hur vatten\, partiklar och näringsämnen rör sig i landskapet kommer att visa nya modellresultat som är användbara för planering av insatser i vattenförvaltningen. \nKarin Oscarsson\, sakkunnig inom områdena miljö\, vatten och växtodling LRF\, kommer att berätta om lantbrukets behov och förutsättningar för en resilient vattenhantering i lantbruket. \nLinnea Svärd\, Åtgärdssamordnare Svartån Västerås stad\, Teknik och fastighetsförvaltningen. Linnea kommer att prata på ämnet: Alla behöver en åtgärdssamordnare! \nArrangeras tillsammans med LRF \nEn aktivitet i förstudien Ökad robusthet och resiliens i vattenförvaltningen. \nInbjudan som PDF för nedladdning. \n 
URL:https://agrosormland.se/event/vattenforvaltning-en-resurs-for-framtidens-samhalle/
LOCATION:Digitalt seminarium
CATEGORIES:Vatten,Webbinarium
ATTACH;FMTTYPE=image/jpeg:https://agrosormland.se/wp-content/uploads/2025/04/20250514-Vattenforvatlning-webinar-EU-medfinansieras-16-9.jpg
ORGANIZER;CN="Agro S%C3%B6rmland":MAILTO:info@agrosormland.se
END:VEVENT
END:VCALENDAR