BEGIN:VCALENDAR
VERSION:2.0
PRODID:-//Agro Sörmland - ECPv6.15.20//NONSGML v1.0//EN
CALSCALE:GREGORIAN
METHOD:PUBLISH
X-WR-CALNAME:Agro Sörmland
X-ORIGINAL-URL:https://agrosormland.se
X-WR-CALDESC:Händelser för Agro Sörmland
REFRESH-INTERVAL;VALUE=DURATION:PT1H
X-Robots-Tag:noindex
X-PUBLISHED-TTL:PT1H
BEGIN:VTIMEZONE
TZID:Europe/Stockholm
BEGIN:DAYLIGHT
TZOFFSETFROM:+0100
TZOFFSETTO:+0200
TZNAME:CEST
DTSTART:20230326T010000
END:DAYLIGHT
BEGIN:STANDARD
TZOFFSETFROM:+0200
TZOFFSETTO:+0100
TZNAME:CET
DTSTART:20231029T010000
END:STANDARD
BEGIN:DAYLIGHT
TZOFFSETFROM:+0100
TZOFFSETTO:+0200
TZNAME:CEST
DTSTART:20240331T010000
END:DAYLIGHT
BEGIN:STANDARD
TZOFFSETFROM:+0200
TZOFFSETTO:+0100
TZNAME:CET
DTSTART:20241027T010000
END:STANDARD
BEGIN:DAYLIGHT
TZOFFSETFROM:+0100
TZOFFSETTO:+0200
TZNAME:CEST
DTSTART:20250330T010000
END:DAYLIGHT
BEGIN:STANDARD
TZOFFSETFROM:+0200
TZOFFSETTO:+0100
TZNAME:CET
DTSTART:20251026T010000
END:STANDARD
END:VTIMEZONE
BEGIN:VEVENT
DTSTART;TZID=Europe/Stockholm:20240131T100000
DTEND;TZID=Europe/Stockholm:20240131T120000
DTSTAMP:20260426T014104
CREATED:20231208T185545Z
LAST-MODIFIED:20231208T185545Z
UID:6400-1706695200-1706702400@agrosormland.se
SUMMARY:Solcellspark och batterier – äga eller arrende
DESCRIPTION:Datum: onsdag 31 jan\nTid: kl. 10:00–12:00\nDigital kurs \nMER INFO OCH ANMÄL \nArrangör: HIR Skåne \nKursen går igenom grunderna för vad man ska tänka på vid en investering av en solcellpark. Kursen belyser både egen investering och vad man bör tänka på om man vill arrendera ut mark till en solcellspark. Kapacitet\, dimensionering\, placering och byggnadsteknik är några centrala begrepp. Dessutom behandlas de olika ekonomiska beaktanden som måste göras för att miljö- och klimatinvesteringen ska vara genomförbar. \nKursen berör bl.a.; \n\nEgen solcellspark och att arrendera ut mark till parker\, kan man kombinera dessa alternativ?\nVägen till färdig park\, förhandling och processen.\nÖversiktligt kring planering av solcellsanläggning – kapacitet\, dimensionering\, placering m.m.\nEkonomiska aspekter – producera egen el\, sälja via elnätet eller sälja via andelar
URL:https://agrosormland.se/event/solcellspark-och-batterier-aga-eller-arrende/
LOCATION:Digitalt seminarium
CATEGORIES:Energi,Kurs/utbildning,Webbinarium
ATTACH;FMTTYPE=image/jpeg:https://agrosormland.se/wp-content/uploads/2023/12/solpanel-med-folk-16x9-1.jpg
END:VEVENT
END:VCALENDAR