BEGIN:VCALENDAR
VERSION:2.0
PRODID:-//Agro Sörmland - ECPv6.15.20//NONSGML v1.0//EN
CALSCALE:GREGORIAN
METHOD:PUBLISH
X-WR-CALNAME:Agro Sörmland
X-ORIGINAL-URL:https://agrosormland.se
X-WR-CALDESC:Händelser för Agro Sörmland
REFRESH-INTERVAL;VALUE=DURATION:PT1H
X-Robots-Tag:noindex
X-PUBLISHED-TTL:PT1H
BEGIN:VTIMEZONE
TZID:Europe/Stockholm
BEGIN:DAYLIGHT
TZOFFSETFROM:+0100
TZOFFSETTO:+0200
TZNAME:CEST
DTSTART:20220327T010000
END:DAYLIGHT
BEGIN:STANDARD
TZOFFSETFROM:+0200
TZOFFSETTO:+0100
TZNAME:CET
DTSTART:20221030T010000
END:STANDARD
BEGIN:DAYLIGHT
TZOFFSETFROM:+0100
TZOFFSETTO:+0200
TZNAME:CEST
DTSTART:20230326T010000
END:DAYLIGHT
BEGIN:STANDARD
TZOFFSETFROM:+0200
TZOFFSETTO:+0100
TZNAME:CET
DTSTART:20231029T010000
END:STANDARD
BEGIN:DAYLIGHT
TZOFFSETFROM:+0100
TZOFFSETTO:+0200
TZNAME:CEST
DTSTART:20240331T010000
END:DAYLIGHT
BEGIN:STANDARD
TZOFFSETFROM:+0200
TZOFFSETTO:+0100
TZNAME:CET
DTSTART:20241027T010000
END:STANDARD
END:VTIMEZONE
BEGIN:VEVENT
DTSTART;TZID=Europe/Stockholm:20231026T100000
DTEND;TZID=Europe/Stockholm:20231026T115000
DTSTAMP:20260426T060311
CREATED:20231004T124556Z
LAST-MODIFIED:20231104T122230Z
UID:5912-1698314400-1698321000@agrosormland.se
SUMMARY:Småskaliga solcellsparker\, del 2 av 5
DESCRIPTION:Bygga solcellspark på egen mark? LRF bjuder in till fem digitala kunskapshöjningar under oktober och november. Målgrupp är lantbrukare som är intresserade av att bygga en solcellspark på sin mark men även för den som är intresserad av att arrendera ut sin mark. \nKunskapshöjare 2 av 5: Mark\, elnät\, tillstånd och övergripande ekonomi \nTorsdag 26 okt\nKl. 10.00–11.50\nDigitalt via Zoom \nANMÄL HÄR \nGästföreläsare kommer att dela med sig av sina erfarenheter och olika aspekter av solcellsparker. Målet med kunskapshöjningarna är att deltagarna ska få en tydligare bild av förutsättningar\, tillvägagångssätt och ekonomi för att kunna realisera en solcellspark på sin mark. \nLÄS MER HÄR
URL:https://agrosormland.se/event/smaskaliga-solcellsparker-del-2-av-5/
LOCATION:Digitalt seminarium
CATEGORIES:Energi,Klimat och miljö,Kurs/utbildning,Webbinarium
ATTACH;FMTTYPE=image/jpeg:https://agrosormland.se/wp-content/uploads/2023/10/20231026-del-2.jpg
END:VEVENT
END:VCALENDAR