BEGIN:VCALENDAR
VERSION:2.0
PRODID:-//Agro Sörmland - ECPv6.15.20//NONSGML v1.0//EN
CALSCALE:GREGORIAN
METHOD:PUBLISH
X-ORIGINAL-URL:https://agrosormland.se
X-WR-CALDESC:Händelser för Agro Sörmland
REFRESH-INTERVAL;VALUE=DURATION:PT1H
X-Robots-Tag:noindex
X-PUBLISHED-TTL:PT1H
BEGIN:VTIMEZONE
TZID:Europe/Stockholm
BEGIN:DAYLIGHT
TZOFFSETFROM:+0100
TZOFFSETTO:+0200
TZNAME:CEST
DTSTART:20230326T010000
END:DAYLIGHT
BEGIN:STANDARD
TZOFFSETFROM:+0200
TZOFFSETTO:+0100
TZNAME:CET
DTSTART:20231029T010000
END:STANDARD
BEGIN:DAYLIGHT
TZOFFSETFROM:+0100
TZOFFSETTO:+0200
TZNAME:CEST
DTSTART:20240331T010000
END:DAYLIGHT
BEGIN:STANDARD
TZOFFSETFROM:+0200
TZOFFSETTO:+0100
TZNAME:CET
DTSTART:20241027T010000
END:STANDARD
BEGIN:DAYLIGHT
TZOFFSETFROM:+0100
TZOFFSETTO:+0200
TZNAME:CEST
DTSTART:20250330T010000
END:DAYLIGHT
BEGIN:STANDARD
TZOFFSETFROM:+0200
TZOFFSETTO:+0100
TZNAME:CET
DTSTART:20251026T010000
END:STANDARD
END:VTIMEZONE
BEGIN:VEVENT
DTSTART;TZID=Europe/Stockholm:20240508T100000
DTEND;TZID=Europe/Stockholm:20240508T120000
DTSTAMP:20260422T170923
CREATED:20240423T190749Z
LAST-MODIFIED:20240423T190749Z
UID:7143-1715162400-1715169600@agrosormland.se
SUMMARY:Biogas stärker och tryggar hållbar svensk energi- och matproduktion
DESCRIPTION:SLU Future Food arrangerar och bjuder in till digitalt seminarium om biogas och biogödselproduktion. \nDatum: 8 maj\nTid: kl. 10.00–12.00\nDigitalt via ZOOM \nANMÄL och läs mer \nEn ny policy brief från SLU Future Food\, framtagen av forskare vid SLU och Linköpings universitet\, ger en rad rekommendationer på åtgärder som skulle kunna stärka svensk produktion av biogas och biogödsel. \nVälkommen till ett webbinarium där forskare\, biogasproducenter och företrädare för myndigheter\, regioner diskuterar biogasens roll i ett hållbart livsmedelssystem utifrån policy briefens rekommendationer. Vi kommer beröra utmaningar och möjligheter ökad svensk produktion av biogas och biogödsel samt dess roll under tider av ökat behov av försörjningstrygghet. Vid webbinariet medverkar forskare från SLU och Linköpings universitet\, samt företrädare för myndigheter\, regioner och biogasproducenter.
URL:https://agrosormland.se/event/biogas-starker-och-tryggar-hallbar-svensk-energi-och-matproduktion/
LOCATION:Digitalt seminarium
CATEGORIES:Energi,Webbinarium
ATTACH;FMTTYPE=image/jpeg:https://agrosormland.se/wp-content/uploads/2024/04/webbinarie-bild-biogas.jpg
END:VEVENT
END:VCALENDAR