BEGIN:VCALENDAR
VERSION:2.0
PRODID:-//Agro Sörmland - ECPv6.15.20//NONSGML v1.0//EN
CALSCALE:GREGORIAN
METHOD:PUBLISH
X-ORIGINAL-URL:https://agrosormland.se
X-WR-CALDESC:Händelser för Agro Sörmland
REFRESH-INTERVAL;VALUE=DURATION:PT1H
X-Robots-Tag:noindex
X-PUBLISHED-TTL:PT1H
BEGIN:VTIMEZONE
TZID:Europe/Stockholm
BEGIN:DAYLIGHT
TZOFFSETFROM:+0100
TZOFFSETTO:+0200
TZNAME:CEST
DTSTART:20240331T010000
END:DAYLIGHT
BEGIN:STANDARD
TZOFFSETFROM:+0200
TZOFFSETTO:+0100
TZNAME:CET
DTSTART:20241027T010000
END:STANDARD
BEGIN:DAYLIGHT
TZOFFSETFROM:+0100
TZOFFSETTO:+0200
TZNAME:CEST
DTSTART:20250330T010000
END:DAYLIGHT
BEGIN:STANDARD
TZOFFSETFROM:+0200
TZOFFSETTO:+0100
TZNAME:CET
DTSTART:20251026T010000
END:STANDARD
BEGIN:DAYLIGHT
TZOFFSETFROM:+0100
TZOFFSETTO:+0200
TZNAME:CEST
DTSTART:20260329T010000
END:DAYLIGHT
BEGIN:STANDARD
TZOFFSETFROM:+0200
TZOFFSETTO:+0100
TZNAME:CET
DTSTART:20261025T010000
END:STANDARD
END:VTIMEZONE
BEGIN:VEVENT
DTSTART;TZID=Europe/Stockholm:20251120T090000
DTEND;TZID=Europe/Stockholm:20251120T150000
DTSTAMP:20260419T165952
CREATED:20250628T094408Z
LAST-MODIFIED:20251031T071638Z
UID:9584-1763629200-1763650800@agrosormland.se
SUMMARY:Sörmlands skogskonferens
DESCRIPTION:SAVE THE DATE SÖRMLANDS SKOGSKONFERENS 2025 \nPolitiken och skogen – en dag om framtidens skogsbruk i Sörmland\nDatum: torsdag 20 november\nTid: 9:00 – 15:00\, kaffe från 8:30\nPlats: Åsa Folkhögskola\, Sköldinge \nANMÄL \nAgro Sörmland bjuder in till en dag med skogen i fokus. \nInom ramen för det regionala skogsprogrammet i Sörmland samlar vi beslutsfattare\, skogsägare\, forskare och praktiker för att diskutera aktuella frågor som påverkar skogsbruket i dag. \nUnder dagen lyfter vi ämnen som hur politikens nyvunna intresse för skogen kan komma att påverka skogsbruket\, vi får höra om förslagen i skogsutredningen\, viltanpassad skogsskötsel samt trädets väg från förädlat frö till sågad vara och mycket mer. \nVälkomna till en dag för inspiration\, kunskap och dialog om hur vi tillsammans kan utveckla ett livskraftigt och hållbart skogsbruk i Sörmland. \nPROGRAM\nVälkomna och kort intro om RsiS\nJohan Varenius\, Agro Sörmland och Josefin Uhnbom\, Region Sörmland \nSkogsutredningen – En robust skogspolitik som ser skogen som en resurs\nGöran Örlander\, professor emeritus\, särskild utredare skogsutredningen \nPolitiken och skogen\nGunnar Lindén\, expert naturvårdspolitik\, LRF \nFrö och planta – så förädlas framtidens skog\nLinnéa Hemmingsson\, Johanna Gårdebrink och Sara Granholm\, Svenska skogsplantor \nLyckas med din plantering\nPontus Svinhufvud\, VD Interagroskog \nLUNCH OCH MINIMÄSSA \nSandåsa Timber – ett modernt trävaruföretag med lång tradition\nLouise Gyllengahm\, delägare Sandåsa Timber \nViltanpassad skogsskötsel\nFredrik Johansson\, Skogforsk \nUtbildning och jobb i skogen – hur gör vi?\nJosefin Uhnbom\, strateg Region Sörmland och Lotta Lindberg Thompson\, verksamhetschef Ökna Naturbruksgymnasium \nÅtervätning av skog\nAnders Hellfeldt\, Skogsstyrelsen \nSammanfattning\, avslut och kaffe \n 
URL:https://agrosormland.se/event/sormlands-skogskonferens/
LOCATION:Åsa Folkhögskola\, Sköldinge\, 641 64
CATEGORIES:Konferens,Skog
ATTACH;FMTTYPE=image/jpeg:https://agrosormland.se/wp-content/uploads/2025/06/20251120-Skogskonferens-2025-16x9-1.jpg
ORGANIZER;CN="Agro S%C3%B6rmland":MAILTO:info@agrosormland.se
END:VEVENT
END:VCALENDAR