BEGIN:VCALENDAR
VERSION:2.0
PRODID:-//Agro Sörmland - ECPv6.15.20//NONSGML v1.0//EN
CALSCALE:GREGORIAN
METHOD:PUBLISH
X-WR-CALNAME:Agro Sörmland
X-ORIGINAL-URL:https://agrosormland.se
X-WR-CALDESC:Händelser för Agro Sörmland
REFRESH-INTERVAL;VALUE=DURATION:PT1H
X-Robots-Tag:noindex
X-PUBLISHED-TTL:PT1H
BEGIN:VTIMEZONE
TZID:Europe/Stockholm
BEGIN:DAYLIGHT
TZOFFSETFROM:+0100
TZOFFSETTO:+0200
TZNAME:CEST
DTSTART:20230326T010000
END:DAYLIGHT
BEGIN:STANDARD
TZOFFSETFROM:+0200
TZOFFSETTO:+0100
TZNAME:CET
DTSTART:20231029T010000
END:STANDARD
BEGIN:DAYLIGHT
TZOFFSETFROM:+0100
TZOFFSETTO:+0200
TZNAME:CEST
DTSTART:20240331T010000
END:DAYLIGHT
BEGIN:STANDARD
TZOFFSETFROM:+0200
TZOFFSETTO:+0100
TZNAME:CET
DTSTART:20241027T010000
END:STANDARD
BEGIN:DAYLIGHT
TZOFFSETFROM:+0100
TZOFFSETTO:+0200
TZNAME:CEST
DTSTART:20250330T010000
END:DAYLIGHT
BEGIN:STANDARD
TZOFFSETFROM:+0200
TZOFFSETTO:+0100
TZNAME:CET
DTSTART:20251026T010000
END:STANDARD
END:VTIMEZONE
BEGIN:VEVENT
DTSTART;TZID=Europe/Stockholm:20241023T083000
DTEND;TZID=Europe/Stockholm:20241023T183000
DTSTAMP:20260420T023408
CREATED:20240920T131515Z
LAST-MODIFIED:20240920T131545Z
UID:7871-1729672200-1729708200@agrosormland.se
SUMMARY:Vildsvinskonferens
DESCRIPTION:Hushållningssällskapet arrangera och hälsar välkommen till en nationell vildsvinskonferens i Halland! \nDatum: 23 okt\nTid: kl. 8:30–18:30\nPlats: Lilla Böslid\, Eldsberga \nANMÄL och mer info \nInbjudan som PDF \nDen 23 oktober är det dags för en heldag med fokus på vildsvin och närliggande ämnen. Lyssna till flera spännande föredrag\, ta del av intressanta utvecklingsprojekt och smaka på både vildsvin och vildgås från Halland. \nVildsvinskonferensen riktar sig till dig som är intresserad av vildsvinsfrågan. Du kan vara jägare\, myndighetsperson\, markägare\, lantbrukare\, politiker eller bara allmänt intresserad av vilt och vildsvin.
URL:https://agrosormland.se/event/vildsvinskonferens/
LOCATION:Lilla Böslid\, Eldsberga\, 305 96
CATEGORIES:Konferens,Vilt
ATTACH;FMTTYPE=image/jpeg:https://agrosormland.se/wp-content/uploads/2024/09/Inbjudan-vildsvinskonferens-23-oktober-2024-16x9-1.jpg
END:VEVENT
END:VCALENDAR