BEGIN:VCALENDAR
VERSION:2.0
PRODID:-//Agro Sörmland - ECPv6.15.20//NONSGML v1.0//EN
CALSCALE:GREGORIAN
METHOD:PUBLISH
X-WR-CALNAME:Agro Sörmland
X-ORIGINAL-URL:https://agrosormland.se
X-WR-CALDESC:Händelser för Agro Sörmland
REFRESH-INTERVAL;VALUE=DURATION:PT1H
X-Robots-Tag:noindex
X-PUBLISHED-TTL:PT1H
BEGIN:VTIMEZONE
TZID:Europe/Stockholm
BEGIN:DAYLIGHT
TZOFFSETFROM:+0100
TZOFFSETTO:+0200
TZNAME:CEST
DTSTART:20210328T010000
END:DAYLIGHT
BEGIN:STANDARD
TZOFFSETFROM:+0200
TZOFFSETTO:+0100
TZNAME:CET
DTSTART:20211031T010000
END:STANDARD
BEGIN:DAYLIGHT
TZOFFSETFROM:+0100
TZOFFSETTO:+0200
TZNAME:CEST
DTSTART:20220327T010000
END:DAYLIGHT
BEGIN:STANDARD
TZOFFSETFROM:+0200
TZOFFSETTO:+0100
TZNAME:CET
DTSTART:20221030T010000
END:STANDARD
BEGIN:DAYLIGHT
TZOFFSETFROM:+0100
TZOFFSETTO:+0200
TZNAME:CEST
DTSTART:20230326T010000
END:DAYLIGHT
BEGIN:STANDARD
TZOFFSETFROM:+0200
TZOFFSETTO:+0100
TZNAME:CET
DTSTART:20231029T010000
END:STANDARD
BEGIN:DAYLIGHT
TZOFFSETFROM:+0100
TZOFFSETTO:+0200
TZNAME:CEST
DTSTART:20240331T010000
END:DAYLIGHT
BEGIN:STANDARD
TZOFFSETFROM:+0200
TZOFFSETTO:+0100
TZNAME:CET
DTSTART:20241027T010000
END:STANDARD
END:VTIMEZONE
BEGIN:VEVENT
DTSTART;TZID=Europe/Stockholm:20230517T110000
DTEND;TZID=Europe/Stockholm:20230517T113000
DTSTAMP:20260424T020620
CREATED:20230512T112711Z
LAST-MODIFIED:20231104T122535Z
UID:4994-1684321200-1684323000@agrosormland.se
SUMMARY:Framtidens bonde
DESCRIPTION:Framtidens Bonde är en serie webbinarier från LRF som ger en djupare inblick i en av de hetaste svenska framtidsbranscherna – de gröna näringarna! \n17 maj kl. 11:00-11:30\, Avsnitt 1: \nLivsmedel och energi – så kan agrivoltaiska system boosta jordbruket\nSka vi producera energi eller livsmedel på svensk åkermark? Eller går det att göra både och? Intresset för agrivoltaiska solcellssystem som kombinerar odling av grödor och produktion av solceller växer lavinartat i världen. I ett samtal forskare och pionjärer undersöker vi möjligheterna för svenska lantbrukare att skapa nya lönsamma affärer. \nMedverkande: Ulf Andersson\, lantbrukare\, Bent Stridh\, universitetslektor Mälardalens universitet och Anders Engström\, AGFO \nKostnadsfritt men anmäl dig för att få en länk till webbinaret. \n=== \nDe gröna näringarna står för viktiga framtidsfrågor\nDe gröna näringarna står inför viktiga framtidsfrågor\, till exempel ekologisk balans\, uthållighet\, förbättrat klimat och hög livsmedelskvalitet. Men hur arbetar framtidens bonde? Vilka grödor kommer att odlas\, vilken teknik kommer användas\, vilka livsmedel kommer förädlas? \nMed andra ord: det hållbara samhället förutsätter det gröna näringslivet och framtidens bönder.
URL:https://agrosormland.se/event/framtidens-bonde/
LOCATION:Digitalt seminarium
CATEGORIES:Klimat och miljö,Kompetensförsörjning
ATTACH;FMTTYPE=image/jpeg:https://agrosormland.se/wp-content/uploads/2023/05/framtidens-bonde-16x9-1.jpg
END:VEVENT
BEGIN:VEVENT
DTSTART;VALUE=DATE:20230209
DTEND;VALUE=DATE:20230210
DTSTAMP:20260424T020620
CREATED:20221017T080419Z
LAST-MODIFIED:20231006T080821Z
UID:3708-1675900800-1675987199@agrosormland.se
SUMMARY:Smart Farming 2023
DESCRIPTION:Lantbrukets möjligheter och bidrag i klimatomställningen\nLantbruket har stor potential att öka kolinlagring\, minska utsläpp av växthusgaser och inte minst att bidra till förnyelsebara energisystem. Detta kan skapa nya affärsmöjligheter för lantbruksföretagen och samtidigt bidra till en konkurrenskraftig produktion av livsmedel. \nSmart Farming 2023 tar upp den senaste forskningen och ger konkreta exempel på hållbara åtgärder för framtidens livsmedelssystem och energiförsörjning. \nSista anmälningsdag 1 februari\, begränsat antal platser. \nLunchmingel sker utomhus så klä dig varmt! \nANMÄL HÄR. \nProgram för nedladdning. \nKOSTNAD: \nLant- och skogsbrukare: 500 kr + moms\nÖvriga: 650 kr + moms \nPROGRAM:  \n08.30–09.00 Kaffe och registrering\nModerator: Sofia Sjöström\, Svenskt Näringsliv \nHÅLLBAR VÄXTODLING OCH DJURPRODUKTION \nEricsbergs slott\nCaroline Bonde Deichmann\, Ericsberg \nFramtidens jordbruk och affärsutveckling från jord till bord\nClaes Johansson\, Lantmännen \nSustAinimal\nSigrid Agenäs\, Sveriges Lantbruksuniversitet \nHinder och möjligheter i betesbaserad djurhållning\nAnna Hessle\, Sveriges Lantbruksuniversitet \nHållbara kretslopp av växtnäring i jordbruket\nEva Salomon\, RISE \nUthålliga växtnäringsstrategier\nHugo Hjelm\, Yara \nCAP 2023-2027\, klimatinsatser i Sveriges strategiska plan\nCarl-Fredrik Lööf\, Näringsdepartementet \n12.20–13.00 Lunch \nFRAMTIDENS ENERGISYSTEM \nFossilfri grön energi\nMartin Ahrne\, BioDriv Öst & Biogas Öst \nFöretagspitch – biogas på gårdsnivå\nCircular Energy Sweden \nVägen mot fossilfri energi i lantbrukets maskiner 2030\nOla Pettersson\, RISE \nVisionen ”Self Sustainable Farm”\nDan Jonsson\, Eneby Stallarholmen\nGöran Bolin\, Superstate\nCilla Krantz\, Agro Sörmland \nGruppdiskussioner inkl. kaffe \nFöretagspitchar – solenergi\nJohan Skördare\, EnergiEngagemang\nTomas Hård\, Natureproof Sweden AB – vätgaslagring och bränslecellsteknik \nVägen mot framtidens lantbruk: betydelsen av ”learning by doing”\nPer Frankelius och Karolina Muhrman\, Agtech 2030 \nSammanfattning och avslut \n  \n 
URL:https://agrosormland.se/event/smart-farming-2023/
LOCATION:Ericsbergs Slott\, Gårdskontoret Ericsberg\, Katrineholm\, 641 93\, Sverige
CATEGORIES:Konferens,Makroperspektiv/utblick
ATTACH;FMTTYPE=image/jpeg:https://agrosormland.se/wp-content/uploads/2022/10/20230209-SmartFarming-kalender-2-1280x720-1.jpg
ORGANIZER;CN="Agro S%C3%B6rmland":MAILTO:info@agrosormland.se
END:VEVENT
BEGIN:VEVENT
DTSTART;TZID=Europe/Stockholm:20221208T090000
DTEND;TZID=Europe/Stockholm:20221208T120000
DTSTAMP:20260424T020620
CREATED:20221026T071229Z
LAST-MODIFIED:20231006T081015Z
UID:3787-1670490000-1670500800@agrosormland.se
SUMMARY:Lönsamt lantbruk i osäkra tider
DESCRIPTION:Hur kan du minska riskerna i ditt lantbruksföretag i denna tid av osäkerhet? \nAgro Sörmland bjuder in till en förmiddag med fokus på beslutsunderlag i din växtodling. Marknaden för spannmål\, oljeväxter och trindsäd\, prissäkring\, riskhantering\, försäkringar samt goda råd till insatser i din växtodling. Lantbruksföretagare delar med sig av strategier och frågeställningar\, tillsammans med deltagarna denna förmiddag ser vi fram emot bra samtal om möjligheter och risktagande. \nDatum: 8 december\nTid: kl 9:00 – 12:00\, kaffe från 08:30\nPlats: Bruksrestaurangen Hälleforsnäs \nKostnadsfritt \nANMÄL HÄR \nLunch kan beställas till självkostnadspris. Anmäl vänligast om du äter lunch efter seminariet. \nBegränsat antal platser. Lantbruksföretagare har förtur. \nPROGRAM\nInledning\nJohan Varenius och Maria Dirke\, Agro Sörmland \nOmvärldsspaning och prissäkring\nErik Sundell\, lantbrukare och entreprenör\, Sollebrunn \nMarknadsprognoser\nPer Germundsson\, produktmarknadschef\, Lantmännen \nSå här tänker jag i mitt företag\nPer Watz\, Husby Gård\, Kvicksund\nKarola Reuterström\, Stora Lövhulta gård\, Eskilstuna \nBensträckare (10 min) \nHar du koll på dina försäkringar?\nPatrik Persson\, rådgivare försäkring lantbruk\, Länsförsäkringar \nStöldrisk på gård och förebyggande arbete\nElisabet Svensk\, lantbrukare\, Grindtorp Valla\, Björkvik\nFöreträdare från polisen \nVäxtodlingsstrategier för viktiga insatsvaror\nVäxtnäring\, Anna Linell\, växtodlingsrådgivare\, Hushållningssällskapet\nVäxtskydd\, Daniel Wessman\, säljare/rådgivare\, Gullviks \n”Greppa framtiden” – ny rådgivning Greppa Näringen\nKlas Fredriksson\, samordnare\, länsstyrelsen\nKjell Johansson\, LRF \nAvslutande diskussioner och reflektioner \nPROGRAM för nedladdning som PDF
URL:https://agrosormland.se/event/lonsamt-lantbruk-i-osakra-tider/
LOCATION:Bruksrestaurangen Hälleforsnäs\, Gjutmästarbacken 1\, Flen\, 648 31\, Sverige
CATEGORIES:Ekonomi/marknad,Seminarium
ATTACH;FMTTYPE=image/jpeg:https://agrosormland.se/wp-content/uploads/2022/10/20221208-lonsamt-seminarium-EU-greppa-16-9.jpg
ORGANIZER;CN="Agro S%C3%B6rmland":MAILTO:info@agrosormland.se
END:VEVENT
END:VCALENDAR