BEGIN:VCALENDAR
VERSION:2.0
PRODID:-//Agro Sörmland - ECPv6.15.20//NONSGML v1.0//EN
CALSCALE:GREGORIAN
METHOD:PUBLISH
X-WR-CALNAME:Agro Sörmland
X-ORIGINAL-URL:https://agrosormland.se
X-WR-CALDESC:Händelser för Agro Sörmland
REFRESH-INTERVAL;VALUE=DURATION:PT1H
X-Robots-Tag:noindex
X-PUBLISHED-TTL:PT1H
BEGIN:VTIMEZONE
TZID:Europe/Stockholm
BEGIN:DAYLIGHT
TZOFFSETFROM:+0100
TZOFFSETTO:+0200
TZNAME:CEST
DTSTART:20240331T010000
END:DAYLIGHT
BEGIN:STANDARD
TZOFFSETFROM:+0200
TZOFFSETTO:+0100
TZNAME:CET
DTSTART:20241027T010000
END:STANDARD
BEGIN:DAYLIGHT
TZOFFSETFROM:+0100
TZOFFSETTO:+0200
TZNAME:CEST
DTSTART:20250330T010000
END:DAYLIGHT
BEGIN:STANDARD
TZOFFSETFROM:+0200
TZOFFSETTO:+0100
TZNAME:CET
DTSTART:20251026T010000
END:STANDARD
BEGIN:DAYLIGHT
TZOFFSETFROM:+0100
TZOFFSETTO:+0200
TZNAME:CEST
DTSTART:20260329T010000
END:DAYLIGHT
BEGIN:STANDARD
TZOFFSETFROM:+0200
TZOFFSETTO:+0100
TZNAME:CET
DTSTART:20261025T010000
END:STANDARD
END:VTIMEZONE
BEGIN:VEVENT
DTSTART;TZID=Europe/Stockholm:20251103T090000
DTEND;TZID=Europe/Stockholm:20251103T093000
DTSTAMP:20260424T052628
CREATED:20251021T180019Z
LAST-MODIFIED:20251021T180019Z
UID:10127-1762160400-1762162200@agrosormland.se
SUMMARY:Så hittar kunskap och pengar varandra till nytta för lantbruket
DESCRIPTION:Datum: 3 nov\nTid: kl. 9:00 – 9:30 \nLÄNK – Digitalt live på LinkedIn\, Youtube och Facebook \nEIP-Agri och AKIS i Sverige arrangerar och bjuder in till en 30 minuters livesändning för dig som jobbar med kunskap\, rådgivning\, innovation eller stödfunktioner inom lantbruket. \nDet finns gott om idéer och finansiärer men hur hittar de egentligen fram till varandra? I AKIS Live pratar vi om finansieringens roll i kunskapsutvecklingen för svenskt lantbruk. Vi lyfter också industridoktorander som en smart brygga mellan akademi och praktik\, för snabbare nytta i verkligheten. \nGäster: \n\nMattias Norrby\, forskningschef på Stiftelsen Lantbruksforskning\nSigrid Agenäs\, programchef för Sustainimal\, SLU\nStephanie Kindbom\, expert på konkurrenskraft och främjandefinansiering på Jordbruksverket\n\n  \nModerator: Jennie Cederholm Björklund\, Sveriges AKIS-coach och samordnare på Landsbygdsnätverket \nSe live eller i efterhand \nAKIS står för Agricultural Knowledge and Innovation Systems.
URL:https://agrosormland.se/event/sa-hittar-kunskap-och-pengar-varandra-till-nytta-for-lantbruket/
LOCATION:Digitalt seminarium
CATEGORIES:Ekonomi/marknad,Kunskapsträff
ATTACH;FMTTYPE=image/jpeg:https://agrosormland.se/wp-content/uploads/2025/10/1760964439280.jpeg
END:VEVENT
BEGIN:VEVENT
DTSTART;TZID=Europe/Stockholm:20251117T073000
DTEND;TZID=Europe/Stockholm:20251117T100000
DTSTAMP:20260424T052628
CREATED:20251027T121509Z
LAST-MODIFIED:20251027T121943Z
UID:10186-1763364600-1763373600@agrosormland.se
SUMMARY:Frukostsamtal Nyköping – Framtidens lantbruk
DESCRIPTION:Datum: 17 nov\nTid: kl. 7:30–10:00\nPlats: Stjärnholms Slott\, Nyköping \nANMÄL \nAgro Sörmland tillsammans med LF Sörmland och RÅDEK bjuder in till frukostsamtal vid fyra tillfällen under vecka 47. Vi kommer att fokusera på framtid\, hälsa\, lönsamhet och generationsskiften inom lantbruket. \nVälkommen till morgonmöten där vi lyfter de viktigaste frågorna för dig som är verksam inom lantbruk och gröna näringar. \nÖvriga datum:  \nTisdag 18 nov\, kl. 7:30–10:00\nStora Djulö Herrgård\, Katrineholm \nOnsdag 19 nov\, kl. 7:30–10:00\nUlvhälls Herrgård\, Strängnäs \nFredag 21 nov\, kl. 7:30–10:00\nMunktells\, Eskilstuna
URL:https://agrosormland.se/event/frukostsamtal-nykoping-framtidens-lantbruk-lonsamhet-halsa-och-generationsskifte/
LOCATION:Stjärnholms slott\, Oxelösund\, 613 421
CATEGORIES:Ekonomi/marknad,Företagsutveckling,Kompetensförsörjning,Nätverk
ATTACH;FMTTYPE=image/jpeg:https://agrosormland.se/wp-content/uploads/2025/10/20251117-LF-AgroS-stjarnholm-lantbruk-16x9-1.jpg
ORGANIZER;CN="Agro S%C3%B6rmland":MAILTO:info@agrosormland.se
END:VEVENT
BEGIN:VEVENT
DTSTART;TZID=Europe/Stockholm:20251119T140000
DTEND;TZID=Europe/Stockholm:20251119T160000
DTSTAMP:20260424T052628
CREATED:20251006T075106Z
LAST-MODIFIED:20251006T075106Z
UID:10054-1763560800-1763568000@agrosormland.se
SUMMARY:Snabbkurs i lantbruk för beslutsfattare
DESCRIPTION:Datum: 19 nov\nKl. 14:00–16:00\nDigitalt \nANMÄL \nI denna snabbkurs presenteras en mycket kortfattad och kondenserad form hur lantbruk bedrivs i Sverige. Vi vänder oss till beslutsfattare (men andra intresserade är också välkomna!)\, med målet att ge en inblick i hur det lantbruk går till i praktiken\, vilka faktorer som styr och är avgörande\, och vilka livsmedel och kollektiva nyttigheter som levereras. Syftet är att på detta sätt bidra till en bättre dialog och bidra till ett bättre beslutsunderlag inom området livsmedelsproduktion och försörjningsberedskap.
URL:https://agrosormland.se/event/snabbkurs-i-lantbruk-for-beslutsfattare-2/
LOCATION:Digitalt seminarium
CATEGORIES:Kurs/utbildning
ATTACH;FMTTYPE=image/jpeg:https://agrosormland.se/wp-content/uploads/2025/10/traktor-i-falt-1200.jpg
END:VEVENT
END:VCALENDAR