BEGIN:VCALENDAR
VERSION:2.0
PRODID:-//Agro Sörmland - ECPv6.15.20//NONSGML v1.0//EN
CALSCALE:GREGORIAN
METHOD:PUBLISH
X-ORIGINAL-URL:https://agrosormland.se
X-WR-CALDESC:Händelser för Agro Sörmland
REFRESH-INTERVAL;VALUE=DURATION:PT1H
X-Robots-Tag:noindex
X-PUBLISHED-TTL:PT1H
BEGIN:VTIMEZONE
TZID:Europe/Stockholm
BEGIN:DAYLIGHT
TZOFFSETFROM:+0100
TZOFFSETTO:+0200
TZNAME:CEST
DTSTART:20250330T010000
END:DAYLIGHT
BEGIN:STANDARD
TZOFFSETFROM:+0200
TZOFFSETTO:+0100
TZNAME:CET
DTSTART:20251026T010000
END:STANDARD
BEGIN:DAYLIGHT
TZOFFSETFROM:+0100
TZOFFSETTO:+0200
TZNAME:CEST
DTSTART:20260329T010000
END:DAYLIGHT
BEGIN:STANDARD
TZOFFSETFROM:+0200
TZOFFSETTO:+0100
TZNAME:CET
DTSTART:20261025T010000
END:STANDARD
BEGIN:DAYLIGHT
TZOFFSETFROM:+0100
TZOFFSETTO:+0200
TZNAME:CEST
DTSTART:20270328T010000
END:DAYLIGHT
BEGIN:STANDARD
TZOFFSETFROM:+0200
TZOFFSETTO:+0100
TZNAME:CET
DTSTART:20271031T010000
END:STANDARD
END:VTIMEZONE
BEGIN:VEVENT
DTSTART;TZID=Europe/Stockholm:20260602T090000
DTEND;TZID=Europe/Stockholm:20260603T170000
DTSTAMP:20260423T091539
CREATED:20260409T181701Z
LAST-MODIFIED:20260409T181734Z
UID:11252-1780390800-1780506000@agrosormland.se
SUMMARY:Jordhälsodagar på Bona gård
DESCRIPTION:Datum: 2 och 3 juni\nTid: heldagar\nPlats: Bona Gård \nANMÄL och mer info \nBona Gård hälsar välkommen till två heldagar där vi fördjupar oss i hållbara jordbruksmetoder med fokus på jordhälsa. \nUpplägget är föreläsningar med fokus på kunskapsutveckling kring jordhälsa i kombination med visningar av fältstudier och demo-odlingar. Ämnen som tas upp är grödans upptag och utnyttjande av olika former av näringsämnen och dess inverkan på växternas tillväxt och utveckling. Hur man kan minska förluster av växtnäring och växtskyddsmedel i miljön och samtidigt effektivisera gårdens lönsamhet? Hållbart nyttjande av vatten och markens produktionsförmåga med mera.
URL:https://agrosormland.se/event/jordhalsodagar-pa-bona-gard/
LOCATION:Bona Gård\, Bona 1\, Munsö\, 178 91
CATEGORIES:Jordhälsa
ATTACH;FMTTYPE=image/jpeg:https://agrosormland.se/wp-content/uploads/2026/04/jordhalsodagar.jpg
END:VEVENT
END:VCALENDAR